BEGIN:VCALENDAR
VERSION:2.0
PRODID:-//GrassWorks - ECPv6.15.20//NONSGML v1.0//EN
CALSCALE:GREGORIAN
METHOD:PUBLISH
X-ORIGINAL-URL:https://grassworks.org
X-WR-CALDESC:Events for GrassWorks
REFRESH-INTERVAL;VALUE=DURATION:PT1H
X-Robots-Tag:noindex
X-PUBLISHED-TTL:PT1H
BEGIN:VTIMEZONE
TZID:America/Chicago
BEGIN:DAYLIGHT
TZOFFSETFROM:-0600
TZOFFSETTO:-0500
TZNAME:CDT
DTSTART:20240310T080000
END:DAYLIGHT
BEGIN:STANDARD
TZOFFSETFROM:-0500
TZOFFSETTO:-0600
TZNAME:CST
DTSTART:20241103T070000
END:STANDARD
BEGIN:DAYLIGHT
TZOFFSETFROM:-0600
TZOFFSETTO:-0500
TZNAME:CDT
DTSTART:20250309T080000
END:DAYLIGHT
BEGIN:STANDARD
TZOFFSETFROM:-0500
TZOFFSETTO:-0600
TZNAME:CST
DTSTART:20251102T070000
END:STANDARD
BEGIN:DAYLIGHT
TZOFFSETFROM:-0600
TZOFFSETTO:-0500
TZNAME:CDT
DTSTART:20260308T080000
END:DAYLIGHT
BEGIN:STANDARD
TZOFFSETFROM:-0500
TZOFFSETTO:-0600
TZNAME:CST
DTSTART:20261101T070000
END:STANDARD
END:VTIMEZONE
BEGIN:VEVENT
DTSTART;TZID=America/Chicago:20251004T100000
DTEND;TZID=America/Chicago:20251004T123000
DTSTAMP:20260419T084913
CREATED:20250918T152654Z
LAST-MODIFIED:20250923T200934Z
UID:10000615-1759572000-1759581000@grassworks.org
SUMMARY:Dairy Grazing Pasture Walk
DESCRIPTION:Forage Only-Organic Dairy Farm Pasture Walk: Explore Innovative Grazing at Grazing Acres Farm  \n\n\n\nThe Northwest Wisconsin Graziers Network\, GrassWorks\, Organic Valley\, River Country RC&D\, and UW-Extension invite you to a unique grass based Dairy Pasture Walk on Saturday\, October 4\, 2025 hosted by the Cheyenne and Katy Christianson Family. Farm tour and introductions will start at 10:30 AM. Grazing Acres Farm spans over 300 acres of slightly rolling pastures and hay fields and is home to Cheyenne and Katy Christianson’s 80 head of Holstein cows. Through well managed rotational grazing practices\, they have cultivated healthy soils and productive pastures and fields that enable their herd to flourish on an exclusively forage diet. \n\n\n\nThis pasture walk is perfect for both new and experienced graziers. Topics will include:● Fall Annual Forages: See pastures of oats and a mix of other legumes and cover crop foragesfor fall grazing that are compatible with forage only milk production and yield.● Winter Forage: Balage is fed throughout winter months to all cows and youngstock. An in-linebale wrapper is used to get high quality grass based fermented forage. Baler/chopper is used.● Milk Harvested with Flat Barn Milking Parlor: Eight stall\, dry flat floor system is used.● Replacement Heifer Management: Learn about noval approach for rearing replacement heifers.Calves stay with their mothers in milking group for 2-4 weeks\, then are transfered to a nurse cowpen for another 3-4 months. Calves get no starter grain and grow well on a forage-only diet.● Winter Housing: Two large cover-all hoop buildings provide manure pack resting area and bunkfeeding with large feeder wagons.● Emphasis on Soil Health: Livestock manure and organic soil amendments used stategically.● Family Labor: Farm work force is primarily provided by family members with 5 of 11 children stillliving at home. \n\n\n\nFor more information\, contact:● Cheyenne or Katy: 715-458-2835● Nicole Muschinske\, GrassWorks: 314-917-9352● Lynn Johnson\, NW Graziers Network: 715-225-9882
URL:https://grassworks.org/event/dairy-grazing-pasture-walk/
LOCATION:Grazing Acres Farm\, 1732 9th Avenue\, Chetek\, Wisconsin\, 54728
ATTACH;FMTTYPE=image/png:https://grassworks.org/wp-content/uploads/2025/09/25-Grazing-Acres-Farm-Pasture-Walk_Final-1.png
END:VEVENT
END:VCALENDAR