BEGIN:VCALENDAR
VERSION:2.0
PRODID:-//GrassWorks - ECPv6.15.20//NONSGML v1.0//EN
CALSCALE:GREGORIAN
METHOD:PUBLISH
X-ORIGINAL-URL:https://grassworks.org
X-WR-CALDESC:Events for GrassWorks
REFRESH-INTERVAL;VALUE=DURATION:PT1H
X-Robots-Tag:noindex
X-PUBLISHED-TTL:PT1H
BEGIN:VTIMEZONE
TZID:America/Chicago
BEGIN:DAYLIGHT
TZOFFSETFROM:-0600
TZOFFSETTO:-0500
TZNAME:CDT
DTSTART:20250309T080000
END:DAYLIGHT
BEGIN:STANDARD
TZOFFSETFROM:-0500
TZOFFSETTO:-0600
TZNAME:CST
DTSTART:20251102T070000
END:STANDARD
BEGIN:DAYLIGHT
TZOFFSETFROM:-0600
TZOFFSETTO:-0500
TZNAME:CDT
DTSTART:20260308T080000
END:DAYLIGHT
BEGIN:STANDARD
TZOFFSETFROM:-0500
TZOFFSETTO:-0600
TZNAME:CST
DTSTART:20261101T070000
END:STANDARD
BEGIN:DAYLIGHT
TZOFFSETFROM:-0600
TZOFFSETTO:-0500
TZNAME:CDT
DTSTART:20270314T080000
END:DAYLIGHT
BEGIN:STANDARD
TZOFFSETFROM:-0500
TZOFFSETTO:-0600
TZNAME:CST
DTSTART:20271107T070000
END:STANDARD
END:VTIMEZONE
BEGIN:VEVENT
DTSTART;TZID=America/Chicago:20260116T100000
DTEND;TZID=America/Chicago:20260116T153000
DTSTAMP:20260419T201905
CREATED:20250929T183551Z
LAST-MODIFIED:20260113T184209Z
UID:10000627-1768557600-1768577400@grassworks.org
SUMMARY:River Country Winter Grazing Conference
DESCRIPTION:River Country Winter Grazing ConferenceFor the Grazier by the Grazier \n\n\n\nMeeting Agenda \n\n\n\n9:30 Coffee and Fellowship \n\n\n\n10:00 am –  Steve Okonek: Where do we start to Make Great Pastures\, soil health practices to benefit your grazing system  \n\n\n\n10:50 am – Break \n\n\n\n11:00 am – Steve Okonek: How to implement cover crops in your grazing system and Why \n\n\n\n11:30 Randy Cutler: Fencing basics and More \n\n\n\n12:00 lunch (Marth Family Farm\, Neillsville WI) \n\n\n\n1:00 Randy Cutler: Sheep management and tools needed for your grazing system \n\n\n\n1:30 Jason Benson: Goat Management and Lessons learned \n\n\n\n2:00 Ken Schmidt: Safe Animal Handling   \n\n\n\n2:30 Q and A with Steve\, Randy\, Jason and Ken \n\n\n\nMore info here!Register here now! Lunch & snacks included
URL:https://grassworks.org/event/river-country-winter-grazing-conference/
LOCATION:Grand Occasions Event Center\, W16181 US HWY 10\, Osseo\, Wisconsin\, 54758
ATTACH;FMTTYPE=image/jpeg:https://grassworks.org/wp-content/uploads/2025/09/615808481_1193322689578277_8351222036754581629_n.jpg
END:VEVENT
END:VCALENDAR