BEGIN:VCALENDAR
VERSION:2.0
PRODID:-//GrassWorks - ECPv6.15.20//NONSGML v1.0//EN
CALSCALE:GREGORIAN
METHOD:PUBLISH
X-WR-CALNAME:GrassWorks
X-ORIGINAL-URL:https://grassworks.org
X-WR-CALDESC:Events for GrassWorks
REFRESH-INTERVAL;VALUE=DURATION:PT1H
X-Robots-Tag:noindex
X-PUBLISHED-TTL:PT1H
BEGIN:VTIMEZONE
TZID:America/Chicago
BEGIN:DAYLIGHT
TZOFFSETFROM:-0600
TZOFFSETTO:-0500
TZNAME:CDT
DTSTART:20250309T080000
END:DAYLIGHT
BEGIN:STANDARD
TZOFFSETFROM:-0500
TZOFFSETTO:-0600
TZNAME:CST
DTSTART:20251102T070000
END:STANDARD
BEGIN:DAYLIGHT
TZOFFSETFROM:-0600
TZOFFSETTO:-0500
TZNAME:CDT
DTSTART:20260308T080000
END:DAYLIGHT
BEGIN:STANDARD
TZOFFSETFROM:-0500
TZOFFSETTO:-0600
TZNAME:CST
DTSTART:20261101T070000
END:STANDARD
BEGIN:DAYLIGHT
TZOFFSETFROM:-0600
TZOFFSETTO:-0500
TZNAME:CDT
DTSTART:20270314T080000
END:DAYLIGHT
BEGIN:STANDARD
TZOFFSETFROM:-0500
TZOFFSETTO:-0600
TZNAME:CST
DTSTART:20271107T070000
END:STANDARD
END:VTIMEZONE
BEGIN:VEVENT
DTSTART;TZID=America/Chicago:20260422T170000
DTEND;TZID=America/Chicago:20260422T190000
DTSTAMP:20260421T164958
CREATED:20260417T180808Z
LAST-MODIFIED:20260417T180812Z
UID:10000714-1776877200-1776884400@grassworks.org
SUMMARY:Mud Management and Grazier Meetup
DESCRIPTION:Bring your boots and come on out to Maple Valley Farm on April 22nd for our spring grazier meet up for the Central WI Graziers Group! Hosted by Golden Sands RC&D.
URL:https://grassworks.org/event/mud-management-and-grazier-meetup/
LOCATION:Maple Valley Farm\, E5944 County Road G\, Marion\, Wisconsin\, 54950
ATTACH;FMTTYPE=image/png:https://grassworks.org/wp-content/uploads/2026/04/unnamed.png
END:VEVENT
BEGIN:VEVENT
DTSTART;TZID=America/Chicago:20260428T100000
DTEND;TZID=America/Chicago:20260428T150000
DTSTAMP:20260421T164958
CREATED:20260402T154019Z
LAST-MODIFIED:20260402T154023Z
UID:10000710-1777370400-1777388400@grassworks.org
SUMMARY:Columbia County Beef Marketing Workshop
DESCRIPTION:Columbia County Beef Marketing WorkshopApril 28th – 10am – 3pmPortage VFW – 215 W Collins St\, Portage\, WI 53901 \n\n\n\nJoin us at the Portage VFW for a free educational workshop on beef marketing.Event topics include:-Cattle Prices and Influences-On-Farm Slaughter-Different Marketing Strategies \n\n\n\nFollowed by a farm tour at Heinze Farm and Lewiston Farmstead Meats. \n\n\n\nThis event is FREE but RSVP is REQUIRED! To RSVP email grazing@goldensandsrcd.org or go to goldensandsrcd.org/events. \n\n\n\nQuestions? (715) 343-6215 ext 709 or grazing@goldensandsrcd.org
URL:https://grassworks.org/event/columbia-county-beef-marketing-workshop/
LOCATION:Portage VFW\, 215 W Collins St\, Portage\, Wisconsin\, 53901
ATTACH;FMTTYPE=image/jpeg:https://grassworks.org/wp-content/uploads/2026/04/unnamed-1.jpg
END:VEVENT
BEGIN:VEVENT
DTSTART;TZID=America/Chicago:20260502T090000
DTEND;TZID=America/Chicago:20260502T110000
DTSTAMP:20260421T164958
CREATED:20260421T141528Z
LAST-MODIFIED:20260421T141756Z
UID:10000721-1777712400-1777719600@grassworks.org
SUMMARY:Bird Conservation & Rotational Grazing
DESCRIPTION:See how cattle grazing and beneficial bird habitat can easily coexist. Learn how pasture management can promote habitat for beneficial grassland birds. Identify birds around the farm alongside guest experts from Audubon\, Wild Farm Alliance\, and Sauk County. Recommended: binoculars\, Merlin Bird ID app\, sturdy footwear.
URL:https://grassworks.org/event/bird-conservation-rotational-grazing/
ATTACH;FMTTYPE=image/png:https://grassworks.org/wp-content/uploads/2026/04/Screenshot-2026-04-21-090635.png
END:VEVENT
BEGIN:VEVENT
DTSTART;TZID=America/Chicago:20260507T100000
DTEND;TZID=America/Chicago:20260507T123000
DTSTAMP:20260421T164958
CREATED:20260417T181607Z
LAST-MODIFIED:20260417T184222Z
UID:10000715-1778148000-1778157000@grassworks.org
SUMMARY:Cover Crop and Forage Field Day: Marshfield Ag Research Station
DESCRIPTION:EPPIC FARM TOURS series \n\n\n\nCover Crop and Forage Field Day: Marshfield Ag Research Station – Partnered Field Day with UW-Extension \n\n\n\nThis hands-on field day is your chance to walk demo plots\, hear from UW–Madison researchers and Extension Specialists\, and get practical guidance on implementing cover crops in Northern Wisconsin\, plus the latest on alfalfa winterkill and hay market trends. Light refreshments provided by EPPIC. Don’t miss it\, register now! go.wisc.edu/97w173
URL:https://grassworks.org/event/cover-crop-and-forage-field-day-marshfield-ag-research-station/
LOCATION:Marshfield Ag Research Station\, 208356 Drake Ave N\, Stratford\, Wisconsin\, 54484
ATTACH;FMTTYPE=image/png:https://grassworks.org/wp-content/uploads/2026/04/2026_Farm_Tours-1-scaled.png
END:VEVENT
BEGIN:VEVENT
DTSTART;TZID=America/Chicago:20260514T120000
DTEND;TZID=America/Chicago:20260514T130000
DTSTAMP:20260421T164958
CREATED:20260421T140242Z
LAST-MODIFIED:20260421T140246Z
UID:10000720-1778760000-1778763600@grassworks.org
SUMMARY:GrazeHERS: Hands-on grazing education for women
DESCRIPTION:GrazeHERs is designed for women at all stages of livestock and pasture management—from those just getting started to those refining an established operation. The program focuses on practical\, hands-on learning\, peer connection\, and building confidence in grazing decision-making. \n\n\n\nParticipants will attend four live virtual sessions on May 14\, 21\, 28\, and June 4\, where they’ll cover topics such as pasture management\, soil fertility\, livestock nutrition\, and grazing math. The program wraps up with an on-farm field day in June\, with two location options: Port-Haven Farm (June 11 in Sleepy Eye\, MN) or Little Timber Farm (June 16 in Blackduck\, MN). Registration includes all sessions as well as lunch at the in-person event. \n\n\n\nFollow this link for more information
URL:https://grassworks.org/event/grazehers-hands-on-grazing-education-for-women/
ATTACH;FMTTYPE=image/png:https://grassworks.org/wp-content/uploads/2026/04/Screenshot-2026-04-21-090039.png
END:VEVENT
BEGIN:VEVENT
DTSTART;TZID=America/Chicago:20260519T090000
DTEND;TZID=America/Chicago:20260519T163000
DTSTAMP:20260421T164958
CREATED:20260220T205301Z
LAST-MODIFIED:20260220T205307Z
UID:10000691-1779181200-1779208200@grassworks.org
SUMMARY:WI School of Grazing - Lancaster
DESCRIPTION:Two days of in-depth sessions and hands-on field experiences\, led by managed grazing experts. \n\n\n\nTopics Covered: \n\n\n\n\nPrinciples of Managed Grazing\n\n\n\nSoil health and pasture productivity\n\n\n\nPaddock sizing and placement\n\n\n\nAnimal genetics and herd health\n\n\n\nEstablishing and Renovating pastures\n\n\n\nPlanning your own system\n\n\n\nAnd More!\n\n\n\n\nThese schools are focused on large ruminant grazing but the concepts of pasture management learned are useful for all species
URL:https://grassworks.org/event/wi-school-of-grazing-lancaster/
LOCATION:Lancaster Ag Research Station\, Wisconsin 35\, Bloomington\, Wisconsin\, 53804\, United States
ATTACH;FMTTYPE=image/png:https://grassworks.org/wp-content/uploads/2026/02/Grazing-Conf.-Jan-Print-version.png
GEO:42.8151893;-90.8295901
X-APPLE-STRUCTURED-LOCATION;VALUE=URI;X-ADDRESS=Lancaster Ag Research Station Wisconsin 35 Bloomington Wisconsin 53804 United States;X-APPLE-RADIUS=500;X-TITLE=Wisconsin 35:geo:-90.8295901,42.8151893
END:VEVENT
BEGIN:VEVENT
DTSTART;TZID=America/Chicago:20260529T100000
DTEND;TZID=America/Chicago:20260529T160000
DTSTAMP:20260421T164958
CREATED:20260219T204043Z
LAST-MODIFIED:20260219T204046Z
UID:10000687-1780048800-1780070400@grassworks.org
SUMMARY:Joel Salatin Workshop
DESCRIPTION:Join Glacierland RC&D for a full day grazing workshop with Joel Salatin! Lunch will be included. Details and register here!
URL:https://grassworks.org/event/joel-salatin-workshop/
LOCATION:Brattset Family Farm\, N2437 Brattset Lane\, Jefferson\, Wisconsin\, 53549
ATTACH;FMTTYPE=image/jpeg:https://grassworks.org/wp-content/uploads/2026/02/638241665_796447003474722_3031000092789121539_n.jpg
END:VEVENT
BEGIN:VEVENT
DTSTART;TZID=America/Chicago:20260624T180000
DTEND;TZID=America/Chicago:20260624T200000
DTSTAMP:20260421T164958
CREATED:20260304T160602Z
LAST-MODIFIED:20260304T160606Z
UID:10000694-1782324000-1782331200@grassworks.org
SUMMARY:Rolling Hills Stock Farm Pasture Walk
DESCRIPTION:
URL:https://grassworks.org/event/rolling-hills-stock-farm-pasture-walk/
ATTACH;FMTTYPE=image/png:https://grassworks.org/wp-content/uploads/2026/03/unnamed.png
END:VEVENT
BEGIN:VEVENT
DTSTART;TZID=America/Chicago:20260625T100000
DTEND;TZID=America/Chicago:20260625T130000
DTSTAMP:20260421T164958
CREATED:20260417T183848Z
LAST-MODIFIED:20260417T183958Z
UID:10000717-1782381600-1782392400@grassworks.org
SUMMARY:Nitrogen Optimization Pilot Program - Cherokee Park
DESCRIPTION:Join us for an on-farm field day exploring a variety of cover crop plots installed by Short Lane Ag. \n\n\n\nThese plots showcase how different cover crop mixes and nitrogen application rates can impact corn yield. You’ll get an up-close\, in-field look at the trials\, with plenty of time to walk the plots\, ask questions\, and discuss what we’re seeing. Lunch provided by EPPIC at Cherokee Park.
URL:https://grassworks.org/event/nitrogen-optimization-pilot-program-cherokee-park/
LOCATION:Cherokee Park\, 108042 County Road N\, Colby\, Wisconsin\, 54421
ATTACH;FMTTYPE=image/png:https://grassworks.org/wp-content/uploads/2026/04/2026_Farm_Tours-1-scaled.png
END:VEVENT
BEGIN:VEVENT
DTSTART;TZID=America/Chicago:20260701T180000
DTEND;TZID=America/Chicago:20260701T200000
DTSTAMP:20260421T164958
CREATED:20260304T161125Z
LAST-MODIFIED:20260304T161128Z
UID:10000695-1782928800-1782936000@grassworks.org
SUMMARY:Pelton Cattle Company Pasture Walk
DESCRIPTION:
URL:https://grassworks.org/event/pelton-cattle-company-pasture-walk/
ATTACH;FMTTYPE=image/png:https://grassworks.org/wp-content/uploads/2026/03/unnamed.png
END:VEVENT
BEGIN:VEVENT
DTSTART;TZID=America/Chicago:20260714T080000
DTEND;TZID=America/Chicago:20260716T170000
DTSTAMP:20260421T164958
CREATED:20260417T184727Z
LAST-MODIFIED:20260417T184731Z
UID:10000718-1784016000-1784221200@grassworks.org
SUMMARY:Farm Tech Days @ No Joke Dairy
DESCRIPTION:Wisconsin Farm Tech Days is right in our backyard this year-right here in the Eau Pleine Watershed! EPPIC will be at the show all three days\, and we’d love for you to stop by\, say hello\, and chat with us. We’ll have our rainfall simulator on display\, and we’re teaming up with Short Lane Ag to showcase several cover crop strips behind our booths for everyone to explore. It’s a great chance to see soil health principles in action. Come on down\, visit our booth\, and enjoy all the other great exhibits and activities happening at this year’s Farm Tech Days. We hope to see you there!
URL:https://grassworks.org/event/farm-tech-days-no-joke-dairy/
LOCATION:No Joke Dairy LLC\, 216601 Wescott Ave\, Stratford\, Wisconsin\, 54484
ATTACH;FMTTYPE=image/png:https://grassworks.org/wp-content/uploads/2026/04/2026_Farm_Tours-1-scaled.png
END:VEVENT
BEGIN:VEVENT
DTSTART;TZID=America/Chicago:20260715T120000
DTEND;TZID=America/Chicago:20260716T160000
DTSTAMP:20260421T164958
CREATED:20260402T161240Z
LAST-MODIFIED:20260402T161242Z
UID:10000712-1784116800-1784217600@grassworks.org
SUMMARY:Heart of America Grazing Conference
DESCRIPTION:The Heart of America Grazing conferene is coming to Illinois this summer! \n\n\n\n📍 Effingham\, IL📅 July 15–16\, 2026 \n\n\n\nJoin graziers from across the Midwest for two days of immersive\, producer-focused learning\, including: \n\n\n\n-On-farm tour-Virtual fencing-University of Illinois research-Bale grazing-Cover crop grazing strategies \n\n\n\nThis regional conference brings together producers\, researchers\, and grazing professionals for practical education and peer-to-peer learning. Registration opens May 1. More details here.
URL:https://grassworks.org/event/heart-of-america-grazing-conference/
LOCATION:Effingham Event Center\, 1501 W Fayette Ave\, Effingham\, Illinois\, 62401
ATTACH;FMTTYPE=image/webp:https://grassworks.org/wp-content/uploads/2026/04/ILGLC_logo_web.webp
END:VEVENT
BEGIN:VEVENT
DTSTART;TZID=America/Chicago:20260805T180000
DTEND;TZID=America/Chicago:20260805T200000
DTSTAMP:20260421T164958
CREATED:20260304T161254Z
LAST-MODIFIED:20260304T161258Z
UID:10000696-1785952800-1785960000@grassworks.org
SUMMARY:Trower Farm Pasture Walk
DESCRIPTION:
URL:https://grassworks.org/event/trower-farm-pasture-walk/
ATTACH;FMTTYPE=image/png:https://grassworks.org/wp-content/uploads/2026/03/unnamed.png
END:VEVENT
BEGIN:VEVENT
DTSTART;TZID=America/Chicago:20260825T100000
DTEND;TZID=America/Chicago:20260825T130000
DTSTAMP:20260421T164958
CREATED:20260417T185410Z
LAST-MODIFIED:20260417T185414Z
UID:10000719-1787652000-1787662800@grassworks.org
SUMMARY:New Planter Field Trials & Multi-species Cover Crops - Twin B Dairy
DESCRIPTION:Join us at Twin B Dairy Farm for an in-field look at The Digital Farmer & Crew’s newly designed soybean planter field trials. We’ll explore visible plant differences and dive into how planter performance influences soybean root development. Afterward\, we’ll head over to another field where Adam has established multispecies cover crops following small-grain harvest. This will be a great opportunity to talk through species selection and discuss how diverse cover crops impact plant conditions and overall soil health. EPPIC will provide lunch following the field tours.
URL:https://grassworks.org/event/new-planter-field-trials-multi-species-cover-crops-twin-b-dairy/
LOCATION:Twin B Dairy\, 3815 Co Rd P\, Marathon City\, Wisconsin\, 54448
ATTACH;FMTTYPE=image/png:https://grassworks.org/wp-content/uploads/2026/04/2026_Farm_Tours-1-scaled.png
END:VEVENT
BEGIN:VEVENT
DTSTART;TZID=America/Chicago:20260903T090000
DTEND;TZID=America/Chicago:20260903T110000
DTSTAMP:20260421T164958
CREATED:20260417T183438Z
LAST-MODIFIED:20260418T173700Z
UID:10000716-1788426000-1788433200@grassworks.org
SUMMARY:Cavern Point Farm Pasture Walk and Tour
DESCRIPTION:Jason and Jocelyn Cavadini and their five children manage a Red Angus beef herd on 70 acres of pasture. They use management‑intensive rotational grazing with the goal of extending the grazing season through December. In winter\, the herd is outwintered using bale grazing. Afterwards\, the outwintering area is seeded with an annual cover crop mix for quick forage and to prepare the sight for reseeding of perennials in the fall. We’ll cover how to extend the grazing season with stockpiled forage\, the soil‐building benefits of well-managed bale grazing\, and effective pasture renovation practices.
URL:https://grassworks.org/event/cavern-point-farm-pasture-walk-and-tour/
LOCATION:Cavern Point Farm\, 05838 Drake Ave N\, Marshfield\, Wisconsin\, 54449
ATTACH;FMTTYPE=image/png:https://grassworks.org/wp-content/uploads/2026/04/2026_Farm_Tours-1-scaled.png
END:VEVENT
BEGIN:VEVENT
DTSTART;TZID=America/Chicago:20260909T170000
DTEND;TZID=America/Chicago:20260909T190000
DTSTAMP:20260421T164958
CREATED:20260304T161416Z
LAST-MODIFIED:20260304T161421Z
UID:10000697-1788973200-1788980400@grassworks.org
SUMMARY:Bula's Pleasant Valley Farm Pasture Walk
DESCRIPTION:
URL:https://grassworks.org/event/bulas-pleasant-valley-farm-pasture-walk/
ATTACH;FMTTYPE=image/png:https://grassworks.org/wp-content/uploads/2026/03/unnamed.png
END:VEVENT
BEGIN:VEVENT
DTSTART;TZID=America/Chicago:20260916T090000
DTEND;TZID=America/Chicago:20260917T163000
DTSTAMP:20260421T164958
CREATED:20260220T205438Z
LAST-MODIFIED:20260220T205456Z
UID:10000692-1789549200-1789662600@grassworks.org
SUMMARY:WI School of Grazing - Marshfield
DESCRIPTION:Two days of in-depth sessions and hands-on field experiences\, led by managed grazing experts. \n\n\n\nTopics Covered: \n\n\n\n\nPrinciples of Managed Grazing\n\n\n\nSoil health and pasture productivity\n\n\n\nPaddock sizing and placement\n\n\n\nAnimal genetics and herd health\n\n\n\nEstablishing and Renovating pastures\n\n\n\nPlanning your own system\n\n\n\nAnd More!\n\n\n\n\nThese schools are focused on large ruminant grazing but the concepts of pasture management learned are useful for all species
URL:https://grassworks.org/event/wi-school-of-grazing-lancaster-2/
LOCATION:Marshfield Ag Research Station\, Century Road\, Spencer\, WI\, 54479\, United States
ATTACH;FMTTYPE=image/png:https://grassworks.org/wp-content/uploads/2026/02/Grazing-Conf.-Jan-Print-version.png
GEO:44.78591;-90.2820894
X-APPLE-STRUCTURED-LOCATION;VALUE=URI;X-ADDRESS=Marshfield Ag Research Station Century Road Spencer WI 54479 United States;X-APPLE-RADIUS=500;X-TITLE=Century Road:geo:-90.2820894,44.78591
END:VEVENT
BEGIN:VEVENT
DTSTART;TZID=America/Chicago:20261007T170000
DTEND;TZID=America/Chicago:20261007T190000
DTSTAMP:20260421T164958
CREATED:20260304T161550Z
LAST-MODIFIED:20260304T161556Z
UID:10000698-1791392400-1791399600@grassworks.org
SUMMARY:Hutter Farm Pasture Walk
DESCRIPTION:
URL:https://grassworks.org/event/hutter-farm-pasture-walk/
ATTACH;FMTTYPE=image/png:https://grassworks.org/wp-content/uploads/2026/03/unnamed.png
END:VEVENT
END:VCALENDAR