BEGIN:VCALENDAR
VERSION:2.0
PRODID:-//GrassWorks - ECPv6.15.20//NONSGML v1.0//EN
CALSCALE:GREGORIAN
METHOD:PUBLISH
X-WR-CALNAME:GrassWorks
X-ORIGINAL-URL:https://grassworks.org
X-WR-CALDESC:Events for GrassWorks
REFRESH-INTERVAL;VALUE=DURATION:PT1H
X-Robots-Tag:noindex
X-PUBLISHED-TTL:PT1H
BEGIN:VTIMEZONE
TZID:America/Chicago
BEGIN:DAYLIGHT
TZOFFSETFROM:-0600
TZOFFSETTO:-0500
TZNAME:CDT
DTSTART:20250309T080000
END:DAYLIGHT
BEGIN:STANDARD
TZOFFSETFROM:-0500
TZOFFSETTO:-0600
TZNAME:CST
DTSTART:20251102T070000
END:STANDARD
BEGIN:DAYLIGHT
TZOFFSETFROM:-0600
TZOFFSETTO:-0500
TZNAME:CDT
DTSTART:20260308T080000
END:DAYLIGHT
BEGIN:STANDARD
TZOFFSETFROM:-0500
TZOFFSETTO:-0600
TZNAME:CST
DTSTART:20261101T070000
END:STANDARD
BEGIN:DAYLIGHT
TZOFFSETFROM:-0600
TZOFFSETTO:-0500
TZNAME:CDT
DTSTART:20270314T080000
END:DAYLIGHT
BEGIN:STANDARD
TZOFFSETFROM:-0500
TZOFFSETTO:-0600
TZNAME:CST
DTSTART:20271107T070000
END:STANDARD
END:VTIMEZONE
BEGIN:VEVENT
DTSTART;TZID=America/Chicago:20260415T130000
DTEND;TZID=America/Chicago:20260415T170000
DTSTAMP:20260421T034000
CREATED:20260402T153627Z
LAST-MODIFIED:20260402T155239Z
UID:10000709-1776258000-1776272400@grassworks.org
SUMMARY:Soil Health Field Day - Columbia County
DESCRIPTION:JOIN US FOR THE COLUMBIA COUNTY SOIL HEALTH FIELD DAY AT HARVEY MILLER JR. FARM IN PARDEEVILLE. THIS EVENT IS FREE AND OPEN TO THE PUBLIC. A LIGHT DINNER WILL BE PROVIDED AFTERWARDS. \n\n\n\nTOPICS DISCUSSED DURING THE FIELD DAY: \n\n\n\n\nManure Management\n\n\n\nProper handling of livestock waste is essential for environmental protection. This section covers safe storage and responsible spreading practices.\n\n\n\nNitrogen Management\n\n\n\nPlanning application rates and timing helps protect human health while reducing on-farm costs as excess nitrogen can contaminate well water.\n\n\n\nNutrient Management Planning\n\n\n\nA nutrient management plan ensures manure and fertilizer are applied at appropriate rates. Learn how to build and maintain a plan that supports crop needs and reduces nutrient loss.\n\n\n\nPhosphorus in Agricultural Water Environments (Streams\, Ponds\, and Lakes)\n\n\n\nPhosphorus from agricultural runoff—primarily fertilizer and manure leads to toxic algal blooms\, severe oxygen depletion\, and fish kills.\n\n\n\nSoil Health Principles\n\n\n\nHealthy soil is the foundation of productive farming. Hear about the five key principles that support long-term soil function and resilience.
URL:https://grassworks.org/event/soil-health-field-day-2/
LOCATION:Harvey Miller Jr. Farm\, W5423 MILITARY ROAD\, Pardeeville\, Wisconsin\, 53954
ATTACH;FMTTYPE=image/jpeg:https://grassworks.org/wp-content/uploads/2026/04/unnamed.jpg
END:VEVENT
END:VCALENDAR